BEGIN:VCALENDAR
VERSION:2.0
PRODID:-//203.170.86.89//NONSGML kigkonsult.se iCalcreator 2.26.9//
CALSCALE:GREGORIAN
METHOD:PUBLISH
X-WR-CALNAME:Junior Field Naturalists SA
X-WR-CALDESC:
X-FROM-URL:http://jfnsa.com.au
X-WR-TIMEZONE:Australia/Adelaide
BEGIN:VTIMEZONE
TZID:Australia/Adelaide
X-LIC-LOCATION:Australia/Adelaide
BEGIN:STANDARD
DTSTART:20200405T030000
TZOFFSETFROM:+1030
TZOFFSETTO:+0930
RDATE:20210404T030000
TZNAME:ACST
END:STANDARD
BEGIN:DAYLIGHT
DTSTART:20191006T020000
TZOFFSETFROM:+0930
TZOFFSETTO:+1030
RDATE:20201004T020000
TZNAME:ACDT
END:DAYLIGHT
END:VTIMEZONE
BEGIN:VEVENT
UID:ai1ec-550@jfnsa.com.au
DTSTAMP:20200229T100030Z
CATEGORIES;LANGUAGE=en-AU:Meetings
CONTACT:Rona Sakko\; 0419827723\; ronadel@dodo.com.au
DESCRIPTION:
DTSTART;TZID=Australia/Adelaide:20170928T190000
DTEND;TZID=Australia/Adelaide:20170928T201500
GEO:-35.02838;+138.588307
LOCATION:Bellevue Heights Primary School @ 19/7 Vaucluse Cres\, Bellevue He
 ights SA 5050\, Australia
SEQUENCE:0
SUMMARY:Monthly Meeting
URL:http://jfnsa.com.au/event/tbc-7/
X-COST-TYPE:free
END:VEVENT
END:VCALENDAR
