BEGIN:VCALENDAR
VERSION:2.0
PRODID:-//203.170.86.89//NONSGML kigkonsult.se iCalcreator 2.26.9//
CALSCALE:GREGORIAN
METHOD:PUBLISH
X-WR-CALNAME:Junior Field Naturalists SA
X-WR-CALDESC:
X-FROM-URL:http://jfnsa.com.au
X-WR-TIMEZONE:Australia/Adelaide
BEGIN:VTIMEZONE
TZID:Australia/Adelaide
X-LIC-LOCATION:Australia/Adelaide
BEGIN:STANDARD
DTSTART:20200405T030000
TZOFFSETFROM:+1030
TZOFFSETTO:+0930
RDATE:20210404T030000
TZNAME:ACST
END:STANDARD
BEGIN:DAYLIGHT
DTSTART:20191006T020000
TZOFFSETFROM:+0930
TZOFFSETTO:+1030
RDATE:20201004T020000
TZNAME:ACDT
END:DAYLIGHT
END:VTIMEZONE
BEGIN:VEVENT
UID:ai1ec-898@jfnsa.com.au
DTSTAMP:20200229T111349Z
CATEGORIES:
CONTACT:
DESCRIPTION:
DTSTART;TZID=Australia/Adelaide:20190823T183000
DTEND;TZID=Australia/Adelaide:20190823T200000
SEQUENCE:0
SUMMARY:Field Trip – Dive into History at the Clipper Ship
URL:http://jfnsa.com.au/event/field-trip-dive-into-history-at-the-clipper-s
 hip/
X-COST-TYPE:free
END:VEVENT
END:VCALENDAR
